BEGIN:VCALENDAR
VERSION:2.0
PRODID:-//Plone.org//NONSGML plone.app.event//EN
X-WR-TIMEZONE:Brazil/East
BEGIN:VEVENT
SUMMARY:3ª Sessão Extraordinária
DTSTART;VALUE=DATE:20180831
DTEND;VALUE=DATE:20180901
DTSTAMP;VALUE=DATE-TIME:20260419T092222Z
UID:28be3f763d6742fea4b17814c37f4ed0@www.luizalves.sc.leg.br
CREATED;VALUE=DATE-TIME:20180830T163121Z
DESCRIPTION:3ª Sessão Extraordinária da Câmara Municipal de Luiz Alves
 /SC\, às 10h30\, no Auditório da Prefeitura Municipal.
LAST-MODIFIED;VALUE=DATE-TIME:20180830T163126Z
URL:https://www.luizalves.sc.leg.br/institucional/eventos/3a-sessao-extrao
 rdinaria
END:VEVENT
END:VCALENDAR
